BEGIN:VCALENDAR
VERSION:2.0
PRODID:-//Plone.org//NONSGML plone.app.event//EN
X-WR-TIMEZONE:Europe/Rome
BEGIN:VEVENT
SUMMARY:Storie di Panda - Conversazione
DTSTART;VALUE=DATE-TIME:20150519T160000Z
DTEND;VALUE=DATE-TIME:20150519T180000Z
DTSTAMP;VALUE=DATE-TIME:20260421T170126Z
UID:351cd529a2b35291352ec02499da061a@127.0.0.1:8095
CATEGORIES:Conversazione
CREATED;VALUE=DATE-TIME:20150518T102409Z
DESCRIPTION:Delle cure delle arti. Arte\, salute e società - 2^ edizione
LAST-MODIFIED;VALUE=DATE-TIME:20160222T101820Z
LOCATION:Bologna - Oratorio dei Battuti Complesso Monumentale di Santa Mar
 ia della Vita\, via Clavature\, 8 
URL:https://www.ausl.bologna.it/eventi/archivio/auslevent.2015-05-18.54817
 89159
END:VEVENT
END:VCALENDAR
