BEGIN:VCALENDAR
VERSION:2.0
PRODID:-//Plone.org//NONSGML plone.app.event//EN
X-WR-TIMEZONE:Europe/Rome
BEGIN:VEVENT
SUMMARY:Diverdeinverde. Giardini aperti della città e della collina 
DTSTART;VALUE=DATE-TIME:20150522T130000Z
DTEND;VALUE=DATE-TIME:20150522T160000Z
DTSTAMP;VALUE=DATE-TIME:20260420T183730Z
UID:d53c474cb92ae78309eb9ddd2692d287@127.0.0.1:8095
CATEGORIES:Visita guidata
CREATED;VALUE=DATE-TIME:20150518T120321Z
DESCRIPTION:Delle cure delle arti. Arte\, salute e società - 2^ edizione
LAST-MODIFIED;VALUE=DATE-TIME:20160222T101821Z
LOCATION:Palazzo Ratta Pizzardi - Via Castiglione\, 29
URL:https://www.ausl.bologna.it/eventi/archivio/auslevent.2015-05-18.38074
 96698
END:VEVENT
END:VCALENDAR
