BEGIN:VCALENDAR
VERSION:2.0
PRODID:-//Plone.org//NONSGML plone.app.event//EN
X-WR-TIMEZONE:Europe/Rome
BEGIN:VEVENT
SUMMARY:I luoghi del Marchese Carlo Alberto Pizzardi\, grande benefattore 
 della Sanità bolognese
DTSTART;VALUE=DATE-TIME:20150531T080000Z
DTEND;VALUE=DATE-TIME:20150531T160000Z
DTSTAMP;VALUE=DATE-TIME:20260420T183723Z
UID:68dbb1d399b407374b5de0ec9268b194@127.0.0.1:8095
CATEGORIES:Visita guidata
CREATED;VALUE=DATE-TIME:20150518T143006Z
DESCRIPTION:Delle cure delle arti. Arte\, salute e società - 2^ edizione 
LAST-MODIFIED;VALUE=DATE-TIME:20160222T101824Z
LOCATION:Bologna: Palazzo Ratta Pizzardi\, Palazzo Legnani Pizzardi - Bent
 ivoglio (BO): Palazzo Rosso
URL:https://www.ausl.bologna.it/eventi/archivio/auslevent.2015-05-18.10679
 84668
END:VEVENT
END:VCALENDAR
