BEGIN:VCALENDAR
VERSION:2.0
PRODID:-//Plone.org//NONSGML plone.app.event//EN
X-WR-TIMEZONE:Europe/Rome
BEGIN:VEVENT
SUMMARY:il CINNO SELVAGGIO. Take a picture - Storie a fumetti di un altro 
 mondo
DTSTART;VALUE=DATE-TIME:20150516T173000Z
DTEND;VALUE=DATE-TIME:20150516T183000Z
DTSTAMP;VALUE=DATE-TIME:20260421T170207Z
UID:781be75c5f62779a6be2212dd8f2ba07@127.0.0.1:8095
CATEGORIES:Inaugurazione
CREATED;VALUE=DATE-TIME:20150514T111436Z
DESCRIPTION:Inaugurazione della mostra
LAST-MODIFIED;VALUE=DATE-TIME:20160222T101816Z
LOCATION:Squadro\, Stamperia Galleria d’arte\, via Nazario Sauro 27/b - 
 Bologna
URL:https://www.ausl.bologna.it/eventi/archivio/auslevent.2015-05-14.93524
 77858
END:VEVENT
END:VCALENDAR
