BEGIN:VCALENDAR
VERSION:2.0
PRODID:-//Plone.org//NONSGML plone.app.event//EN
X-WR-TIMEZONE:Europe/Rome
BEGIN:VEVENT
SUMMARY:People
DTSTART;VALUE=DATE-TIME:20150514T102000Z
DTEND;VALUE=DATE-TIME:20150614T170000Z
DTSTAMP;VALUE=DATE-TIME:20260421T164819Z
UID:eaea1e995c45404631a58a6b0b86df86@127.0.0.1:8095
CATEGORIES:mostra
CREATED;VALUE=DATE-TIME:20150514T102350Z
DESCRIPTION:Mostra di Nicola Nannini
LAST-MODIFIED;VALUE=DATE-TIME:20160222T101814Z
LOCATION:Oratorio dei Battuti Complesso Monumentale di Santa Maria della V
 ita
URL:https://www.ausl.bologna.it/eventi/archivio/auslevent.2015-05-14.56005
 37136
END:VEVENT
END:VCALENDAR
