BEGIN:VCALENDAR
VERSION:2.0
PRODID:-//Plone.org//NONSGML plone.app.event//EN
X-WR-TIMEZONE:Europe/Rome
BEGIN:VEVENT
SUMMARY:il CINNO SELVAGGIO. Take a picture - Storie a fumetti di un altro 
 mondo
DTSTART;VALUE=DATE-TIME:20150516T160000Z
DTEND;VALUE=DATE-TIME:20150516T170000Z
DTSTAMP;VALUE=DATE-TIME:20260421T164906Z
UID:42b4b88fa8c3de94d7e9480c1b8d7e19@127.0.0.1:8095
CATEGORIES:Presentazione libro
CREATED;VALUE=DATE-TIME:20150514T110628Z
DESCRIPTION:Presentazione del volume
LAST-MODIFIED;VALUE=DATE-TIME:20160222T101815Z
LOCATION:Oratorio dei Battuti Complesso Monumentale di Santa Maria della V
 ita\, via Clavature 8
URL:https://www.ausl.bologna.it/eventi/archivio/auslevent.2015-05-14.43270
 47555
END:VEVENT
END:VCALENDAR
