BEGIN:VCALENDAR
VERSION:2.0
PRODID:-//Plone.org//NONSGML plone.app.event//EN
X-WR-TIMEZONE:Europe/Rome
BEGIN:VEVENT
SUMMARY:Stato dell'arte e appropriatezza in diagnostica per immagini
DTSTART;VALUE=DATE-TIME:20150528T123000Z
DTEND;VALUE=DATE-TIME:20150528T170000Z
DTSTAMP;VALUE=DATE-TIME:20260421T165023Z
UID:40f4a5e4079fedab45437ca610696345@127.0.0.1:8095
CATEGORIES:Convegno
CREATED;VALUE=DATE-TIME:20150508T155930Z
DESCRIPTION:Convegno 
LAST-MODIFIED;VALUE=DATE-TIME:20160222T101649Z
LOCATION:Sala riunioni “Germano Pilati” piano terra Ospedale “SS. Sa
 lvatore” - San Giovanni in Persiceto (BO)
URL:https://www.ausl.bologna.it/eventi/archivio/auslevent.2015-05-08.37561
 10663
END:VEVENT
END:VCALENDAR
