BEGIN:VCALENDAR
VERSION:2.0
PRODID:-//Plone.org//NONSGML plone.app.event//EN
X-WR-TIMEZONE:Europe/Rome
BEGIN:VEVENT
SUMMARY:Memoria sana in corpo sano
DTSTART;VALUE=DATE-TIME:20150516T073000Z
DTEND;VALUE=DATE-TIME:20150516T120000Z
DTSTAMP;VALUE=DATE-TIME:20260421T165946Z
UID:229532c78a37cec5f5f8882320c95c2a@127.0.0.1:8095
CATEGORIES:Giornata di riflessione e staffetta
CREATED;VALUE=DATE-TIME:20150508T152202Z
DESCRIPTION:L’impegno dello Sport per non dimenticare le ferite di Bolog
 na\n
LAST-MODIFIED;VALUE=DATE-TIME:20160222T101648Z
LOCATION:Sala Anziani\, Palazzo D’Accursio - Piazza Maggiore\, 6 Bologna
URL:https://www.ausl.bologna.it/eventi/archivio/auslevent.2015-05-08.04037
 18608
END:VEVENT
END:VCALENDAR
