BEGIN:VCALENDAR
VERSION:2.0
PRODID:-//Plone.org//NONSGML plone.app.event//EN
X-WR-TIMEZONE:Europe/Rome
BEGIN:VEVENT
SUMMARY:36^ StraBologna 
DTSTART;VALUE=DATE-TIME:20150517T081500Z
DTEND;VALUE=DATE-TIME:20150517T104500Z
DTSTAMP;VALUE=DATE-TIME:20260420T112129Z
UID:f479b71102c4b786583267497440b82c@127.0.0.1:8095
CATEGORIES:Camminata
CREATED;VALUE=DATE-TIME:20150505T125031Z
DESCRIPTION:FACCIAMO SQUADRA. Iscriviamoci tutti alla Strabologna 2015 e f
 acciamo la squadra Datti Una Mossa Azienda USL di Bologna!\n\n
LAST-MODIFIED;VALUE=DATE-TIME:20160222T101646Z
LOCATION:Bologna\, Piazza Maggiore 
URL:https://www.ausl.bologna.it/eventi/archivio/auslevent.2015-05-05.82566
 80359
END:VEVENT
END:VCALENDAR
