BEGIN:VCALENDAR
VERSION:2.0
PRODID:-//Plone.org//NONSGML plone.app.event//EN
X-WR-TIMEZONE:Europe/Rome
BEGIN:VEVENT
SUMMARY:La presa in carico della sordità
DTSTART;VALUE=DATE-TIME:20150508T083000Z
DTEND;VALUE=DATE-TIME:20150508T113000Z
DTSTAMP;VALUE=DATE-TIME:20260421T165103Z
UID:9f8f9a97ed18479badd52d179cb20866@127.0.0.1:8095
CATEGORIES:Incontro
CONTACT:Segreteria del Distretto di Bologna \, 051 6597114
CREATED;VALUE=DATE-TIME:20150504T102644Z
DESCRIPTION:Dalla diagnosi al trattamento 
LAST-MODIFIED;VALUE=DATE-TIME:20160222T101645Z
LOCATION:Polo Roncati - aula "ex Cappella" - Via S. Isaia\, 96 - Bologna 
URL:https://www.ausl.bologna.it/eventi/archivio/auslevent.2015-05-04.69306
 67960
END:VEVENT
END:VCALENDAR
