BEGIN:VCALENDAR
VERSION:2.0
PRODID:-//Plone.org//NONSGML plone.app.event//EN
X-WR-TIMEZONE:Europe/Rome
BEGIN:VEVENT
SUMMARY:Bologna contro le mafie - ed. 2015
DTSTART;VALUE=DATE-TIME:20150508T163000Z
DTEND;VALUE=DATE-TIME:20150508T183000Z
DTSTAMP;VALUE=DATE-TIME:20260421T164819Z
UID:e6c57412f83acd3dd7f76a2745e55b56@127.0.0.1:8095
CREATED;VALUE=DATE-TIME:20150430T103015Z
DESCRIPTION:La scuola contro la corruzione e i sistemi criminali 
LAST-MODIFIED;VALUE=DATE-TIME:20160222T101643Z
LOCATION:Sala Tribuni della Plebe "Stefano Tassinari"\, Palazzo D'Accursio
  - Piazza Maggiore\, 6 - Bologna 
URL:https://www.ausl.bologna.it/eventi/archivio/auslevent.2015-04-30.51894
 73744
END:VEVENT
END:VCALENDAR
