BEGIN:VCALENDAR
VERSION:2.0
PRODID:-//Plone.org//NONSGML plone.app.event//EN
X-WR-TIMEZONE:Europe/Rome
BEGIN:VEVENT
SUMMARY:“I caregiver. Chi sono e cosa fanno”
DTSTART;VALUE=DATE-TIME:20150529T133000Z
DTEND;VALUE=DATE-TIME:20150529T170000Z
DTSTAMP;VALUE=DATE-TIME:20260421T170054Z
UID:ceff81952543f8476e9a6b5b0e8f61b0@127.0.0.1:8095
CATEGORIES:Convegno
CONTACT:Segreteria Distretto di Bologna - Segreteria ARAD Onlus\,  051.659
 7114/7115 -  051.465050 
CREATED;VALUE=DATE-TIME:20150427T082029Z
LAST-MODIFIED;VALUE=DATE-TIME:20160222T101642Z
LOCATION:Cappella Farnese\, Comune di Bologna\, Piazza Maggiore 6
URL:https://www.ausl.bologna.it/eventi/archivio/auslevent.2015-04-27.54338
 15983
END:VEVENT
END:VCALENDAR
