BEGIN:VCALENDAR
VERSION:2.0
PRODID:-//Plone.org//NONSGML plone.app.event//EN
X-WR-TIMEZONE:Europe/Rome
BEGIN:VEVENT
SUMMARY:Noi scatti d'insieme 
DTSTART;VALUE=DATE-TIME:20150519T143000Z
DTEND;VALUE=DATE-TIME:20150519T163000Z
DTSTAMP;VALUE=DATE-TIME:20260421T165056Z
UID:6764e1dbf94d9f5aa7d97c21ed20d24c@127.0.0.1:8095
CATEGORIES:mostra
CREATED;VALUE=DATE-TIME:20150424T123606Z
DESCRIPTION:Mostra fotografica 
LAST-MODIFIED;VALUE=DATE-TIME:20160222T101641Z
LOCATION:Bologna - Biblioteca Casa di Khaoula - Via di Corticella\, 104
URL:https://www.ausl.bologna.it/eventi/archivio/auslevent.2015-04-24.72759
 34160
END:VEVENT
END:VCALENDAR
