BEGIN:VCALENDAR
VERSION:2.0
PRODID:-//Plone.org//NONSGML plone.app.event//EN
X-WR-TIMEZONE:Europe/Rome
BEGIN:VEVENT
SUMMARY:Dieci colli par tòtt - 2^ edizione 
DTSTART;VALUE=DATE-TIME:20150503T073000Z
DTEND;VALUE=DATE-TIME:20150503T090000Z
DTSTAMP;VALUE=DATE-TIME:20260420T080223Z
UID:af8967e1914702d70ea7e0ac57b4ae64@127.0.0.1:8095
ATTENDEE;CN="Costo iscrizione 2 euro a persona, esclusi bambini fino ai 6 
 anni non compiuti, devoluto all'ASD I Bradipi";ROLE=REQ-PARTICIPANT:Costo 
 iscrizione 2 euro a persona, esclusi bambini fino ai 6 anni non compiuti, 
 devoluto all'ASD I Bradipi
CATEGORIES:Pedalata
CREATED;VALUE=DATE-TIME:20150422T124042Z
DESCRIPTION:Pedalata 
LAST-MODIFIED;VALUE=DATE-TIME:20160222T101641Z
LOCATION:Bologna - Piazza Maggiore\, 3 
URL:https://www.ausl.bologna.it/eventi/archivio/auslevent.2015-04-22.21658
 02276
END:VEVENT
END:VCALENDAR
