BEGIN:VCALENDAR
VERSION:2.0
PRODID:-//Plone.org//NONSGML plone.app.event//EN
X-WR-TIMEZONE:Europe/Rome
BEGIN:VEVENT
SUMMARY:Pari opportunità e contrasto alla discriminazione
DTSTART;VALUE=DATE-TIME:20150427T130000Z
DTEND;VALUE=DATE-TIME:20150427T160000Z
DTSTAMP;VALUE=DATE-TIME:20260421T164906Z
UID:ead996bc8bd0390764426a7b2496269f@127.0.0.1:8095
ATTENDEE;CN="Il numero dei posti è limitato. E' necessario confermare la 
 propria presenza all'indirizzo di posta elettronica sopraindicato";ROLE=RE
 Q-PARTICIPANT:Il numero dei posti è limitato. E' necessario confermare la
  propria presenza all'indirizzo di posta elettronica sopraindicato
CATEGORIES:seminario
CONTACT:irsbo@irsonline.it
CREATED;VALUE=DATE-TIME:20150420T115032Z
DESCRIPTION:I° seminario formativo/informativo del ciclo che si svolgerà
  tra aprile e giugno 2015\, promosso dall'Ufficio delle Consigliere di Par
 ità della Città Metropolitana di Bologna
LAST-MODIFIED;VALUE=DATE-TIME:20160222T101638Z
LOCATION:Palazzo Malvezzi - Sala dello Zodiaco\, Via Zamboni\, 13 - Bologn
 a 
URL:https://www.ausl.bologna.it/eventi/archivio/auslevent.2015-04-20.98508
 78525
END:VEVENT
END:VCALENDAR
