BEGIN:VCALENDAR
VERSION:2.0
PRODID:-//Plone.org//NONSGML plone.app.event//EN
X-WR-TIMEZONE:Europe/Rome
BEGIN:VEVENT
SUMMARY:Le vie le benessere 
DTSTART;VALUE=DATE-TIME:20150417T071500Z
DTEND;VALUE=DATE-TIME:20150417T113000Z
DTSTAMP;VALUE=DATE-TIME:20260421T165922Z
UID:4d0730c1cbcb124c93973380cb960327@127.0.0.1:8095
CATEGORIES:Convegno
CREATED;VALUE=DATE-TIME:20150416T135519Z
DESCRIPTION:La comunità che si muove per la salute 
LAST-MODIFIED;VALUE=DATE-TIME:20160222T101637Z
LOCATION:Sala delle Assemblee - Ordine dei Farmacisti - Via Garibaldi\, 3 
 - Bologna 
URL:https://www.ausl.bologna.it/eventi/archivio/auslevent.2015-04-16.32172
 05929
END:VEVENT
END:VCALENDAR
