BEGIN:VCALENDAR
VERSION:2.0
PRODID:-//Plone.org//NONSGML plone.app.event//EN
X-WR-TIMEZONE:Europe/Rome
BEGIN:VEVENT
SUMMARY:Condividere salute mentale a Bologna 
DTSTART;VALUE=DATE-TIME:20150421T063000Z
DTEND;VALUE=DATE-TIME:20150421T113000Z
DTSTAMP;VALUE=DATE-TIME:20260421T164906Z
UID:45cc313346334efe89f6d8a50ee6b02d@127.0.0.1:8095
CONTACT:051 65 84 150\, ivana.ceccoli@ausl.bologna.it
CREATED;VALUE=DATE-TIME:20150414T131022Z
LAST-MODIFIED;VALUE=DATE-TIME:20160222T101636Z
LOCATION:Teatro Arena del Sole - Via Indipendenza\, 44 - Bologna 
URL:https://www.ausl.bologna.it/eventi/archivio/auslevent.2015-04-14.66291
 84356
END:VEVENT
END:VCALENDAR
