BEGIN:VCALENDAR
VERSION:2.0
PRODID:-//Plone.org//NONSGML plone.app.event//EN
X-WR-TIMEZONE:Europe/Rome
BEGIN:VEVENT
SUMMARY:Spendere meno o spendere meglio? Il contributo della medicina basa
 ta sulle prove 
DTSTART;VALUE=DATE-TIME:20150522T070000Z
DTEND;VALUE=DATE-TIME:20150522T150000Z
DTSTAMP;VALUE=DATE-TIME:20260421T165959Z
UID:9066a77a8f62c9797ec980a902ea76e6@127.0.0.1:8095
ATTENDEE;CN="Iscrizioni e registrazioni al convegno, sul sito dell'Associa
 zione.";ROLE=REQ-PARTICIPANT:Iscrizioni e registrazioni al convegno, sul s
 ito dell'Associazione.
ATTENDEE;CN="Per gli iscritti all’Associazione Alessandro Liberati – N
 etwork Italiano Cochrane la partecipazione al convegno è gratuita.";ROLE=
 REQ-PARTICIPANT:Per gli iscritti all’Associazione Alessandro Liberati 
 – Network Italiano Cochrane la partecipazione al convegno è gratuita.
CATEGORIES:Convegno
CREATED;VALUE=DATE-TIME:20150409T131425Z
DESCRIPTION:Associazione Alessandro Liberati – Network Italiano Cochrane
 . Riunione annuale del 2015\n\n
LAST-MODIFIED;VALUE=DATE-TIME:20160222T101630Z
LOCATION:Torino - Centro Congressi "Molinette Incontra" A.O.U. Città dell
 a Salute e della Scienza - Corso Bramante\, 88
URL:https://www.ausl.bologna.it/eventi/archivio/auslevent.2015-04-09.59572
 80086
END:VEVENT
END:VCALENDAR
