BEGIN:VCALENDAR
VERSION:2.0
PRODID:-//Plone.org//NONSGML plone.app.event//EN
X-WR-TIMEZONE:Europe/Rome
BEGIN:VEVENT
SUMMARY:Convegno Conclusivo del Progetto CCM 2012
DTSTART;VALUE=DATE-TIME:20150414T073000Z
DTEND;VALUE=DATE-TIME:20150416T153000Z
DTSTAMP;VALUE=DATE-TIME:20260421T165945Z
UID:47073e80a963a095191ff5242b522303@127.0.0.1:8095
CREATED;VALUE=DATE-TIME:20150403T122750Z
DESCRIPTION:Obiettivi di salute: vissuti personali e dinamiche relazionali
  nei percorsi di cura legati alla malattia neoplastica
LAST-MODIFIED;VALUE=DATE-TIME:20160222T101627Z
LOCATION:Hotel Mercure Astoria - Viale Leopoldo Nobili\, 2 - Reggio Emilia
URL:https://www.ausl.bologna.it/eventi/archivio/auslevent.2015-04-03.84813
 17477
END:VEVENT
END:VCALENDAR
