BEGIN:VCALENDAR
VERSION:2.0
PRODID:-//Plone.org//NONSGML plone.app.event//EN
X-WR-TIMEZONE:Europe/Rome
BEGIN:VEVENT
SUMMARY:L'accreditamento istituzionale del Sistema trasfusionale
DTSTART;VALUE=DATE-TIME:20150413T070000Z
DTEND;VALUE=DATE-TIME:20150414T120000Z
DTSTAMP;VALUE=DATE-TIME:20260421T170301Z
UID:baf8e7932bb56ad8708c647debeaa2cb@127.0.0.1:8095
CREATED;VALUE=DATE-TIME:20150403T101033Z
DESCRIPTION:Un'esperienza che unisce l'Italia
LAST-MODIFIED;VALUE=DATE-TIME:20160222T101530Z
LOCATION:Aula Magna Santa Lucia\, via Castiglione 36 - Bologna
URL:https://www.ausl.bologna.it/eventi/archivio/auslevent.2015-04-03.61732
 58674
END:VEVENT
END:VCALENDAR
