BEGIN:VCALENDAR
VERSION:2.0
PRODID:-//Plone.org//NONSGML plone.app.event//EN
X-WR-TIMEZONE:Europe/Rome
BEGIN:VEVENT
SUMMARY:Prevenire e curare la violenza: Conoscere\, Capire\, Condividere
DTSTART;VALUE=DATE-TIME:20150423T061500Z
DTEND;VALUE=DATE-TIME:20150423T113000Z
DTSTAMP;VALUE=DATE-TIME:20260421T164758Z
UID:8b3dcdef5d9d43198b1a763130cf95d6@127.0.0.1:8095
ATTENDEE;CN="Posti disponibili: 120. Le iscrizioni si chiudono il 20 april
 e.";ROLE=REQ-PARTICIPANT:Posti disponibili: 120. Le iscrizioni si chiudono
  il 20 aprile.
ATTENDEE;CN="Il seminario è rivolto a: operatori sociali, sanitari, educa
 tori, insegnanti, avvocati, magistrati. Il seminario è gratuito.";ROLE=RE
 Q-PARTICIPANT:Il seminario è rivolto a: operatori sociali, sanitari, educ
 atori, insegnanti, avvocati, magistrati. Il seminario è gratuito.
CATEGORIES:seminario
CONTACT:3493900950\, fabio.michelini.7133@gmail.com
CREATED;VALUE=DATE-TIME:20150401T141632Z
DESCRIPTION:Seminario 
LAST-MODIFIED;VALUE=DATE-TIME:20160222T101529Z
LOCATION:Sala "Cesare Cesari" c/o A.V.I.S.\, Via dell'Ospedale\, 20 - Bolo
 gna 
URL:https://www.ausl.bologna.it/eventi/archivio/auslevent.2015-04-01.42396
 47263
END:VEVENT
END:VCALENDAR
