BEGIN:VCALENDAR
VERSION:2.0
PRODID:-//Plone.org//NONSGML plone.app.event//EN
X-WR-TIMEZONE:Europe/Rome
BEGIN:VEVENT
SUMMARY:La transitoria perdita di coscienza 
DTSTART;VALUE=DATE-TIME:20150418T080000Z
DTEND;VALUE=DATE-TIME:20150418T110000Z
DTSTAMP;VALUE=DATE-TIME:20260421T164917Z
UID:efa6cfc868d95e767eff6cbe4d0e53b8@127.0.0.1:8095
ATTENDEE;CN="Ingresso gratuito";ROLE=REQ-PARTICIPANT:Ingresso gratuito
CATEGORIES:Giornata di studio
CONTACT:sandra.vernero@ausl.bologna.it
CREATED;VALUE=DATE-TIME:20150401T140242Z
DESCRIPTION:Fare di più non significa fare meglio 
LAST-MODIFIED;VALUE=DATE-TIME:20160222T101527Z
LOCATION:Auditorium Enzo Biagi di Salaborsa - Piazza Nettuno\, 3 - Bologna
  
URL:https://www.ausl.bologna.it/eventi/archivio/auslevent.2015-04-01.05466
 41510
END:VEVENT
END:VCALENDAR
