BEGIN:VCALENDAR
VERSION:2.0
PRODID:-//Plone.org//NONSGML plone.app.event//EN
X-WR-TIMEZONE:Europe/Rome
BEGIN:VEVENT
SUMMARY:“Guido Villa. Omaggio a Niccolò dell’Arca”
DTSTART;VALUE=DATE-TIME:20150401T160000Z
DTEND;VALUE=DATE-TIME:20150401T180000Z
DTSTAMP;VALUE=DATE-TIME:20260421T165946Z
UID:c3ad5376d74dac917eb816d04d51746b@127.0.0.1:8095
ATTENDEE;CN="Entrata libera";ROLE=REQ-PARTICIPANT:Entrata libera
CATEGORIES:Invito
CONTACT:051 230260 - 051 19936388
CREATED;VALUE=DATE-TIME:20150327T144959Z
DESCRIPTION:Inaugurazione della mostra di pittura 
LAST-MODIFIED;VALUE=DATE-TIME:20160222T101525Z
LOCATION:Bologna - Oratorio e Santuario di Santa Maria della Vita - Via Cl
 avature\, 8/10
URL:https://www.ausl.bologna.it/eventi/archivio/auslevent.2015-03-27.53637
 15721
END:VEVENT
END:VCALENDAR
