BEGIN:VCALENDAR
VERSION:2.0
PRODID:-//Plone.org//NONSGML plone.app.event//EN
X-WR-TIMEZONE:Europe/Rome
BEGIN:VEVENT
SUMMARY:Diventare genitori - L'arrivo di un figlio
DTSTART;VALUE=DATE-TIME:20150513T150000Z
DTEND;VALUE=DATE-TIME:20150513T170000Z
DTSTAMP;VALUE=DATE-TIME:20260421T170402Z
UID:31ae3c27dd1cf84ec25a326fb8a65ff3@127.0.0.1:8095
ATTENDEE;CN="Incontri aperti e gratuiti";ROLE=REQ-PARTICIPANT:Incontri ape
 rti e gratuiti
CATEGORIES:Incontro
CREATED;VALUE=DATE-TIME:20150326T153644Z
DESCRIPTION:Rispondere a tanti perché - I° modulo
LAST-MODIFIED;VALUE=DATE-TIME:20160222T101522Z
LOCATION:Bologna - Piazza Nettuno\, 3 - Sala Borsa
URL:https://www.ausl.bologna.it/eventi/archivio/auslevent.2015-03-26.84558
 58783
END:VEVENT
END:VCALENDAR
