BEGIN:VCALENDAR
VERSION:2.0
PRODID:-//Plone.org//NONSGML plone.app.event//EN
X-WR-TIMEZONE:Europe/Rome
BEGIN:VEVENT
SUMMARY:Diventare genitori - L'arrivo di un figlio
DTSTART;VALUE=DATE-TIME:20150603T150000Z
DTEND;VALUE=DATE-TIME:20150603T170000Z
DTSTAMP;VALUE=DATE-TIME:20260421T165959Z
UID:fca1ae62e6e02fd2c60938c51136d00f@127.0.0.1:8095
ATTENDEE;CN="Incontri aperti e gratuiti";ROLE=REQ-PARTICIPANT:Incontri ape
 rti e gratuiti
CATEGORIES:Incontro
CREATED;VALUE=DATE-TIME:20150326T154732Z
DESCRIPTION:Mamma\, Papà...usciamo? - I° modulo 
LAST-MODIFIED;VALUE=DATE-TIME:20160222T101524Z
LOCATION:Bologna - Piazza Nettuno\, 3 - Sala Borsa
URL:https://www.ausl.bologna.it/eventi/archivio/auslevent.2015-03-26.71708
 65349
END:VEVENT
END:VCALENDAR
