BEGIN:VCALENDAR
VERSION:2.0
PRODID:-//Plone.org//NONSGML plone.app.event//EN
X-WR-TIMEZONE:Europe/Rome
BEGIN:VEVENT
SUMMARY:Diventare genitori - L'arrivo di un figlio
DTSTART;VALUE=DATE-TIME:20150527T150000Z
DTEND;VALUE=DATE-TIME:20150527T170000Z
DTSTAMP;VALUE=DATE-TIME:20260421T165023Z
UID:c4b95b092dd51b3e038332914c8aeaca@127.0.0.1:8095
ATTENDEE;CN="Incontri aperti e gratuiti";ROLE=REQ-PARTICIPANT:Incontri ape
 rti e gratuiti
CATEGORIES:Incontro
CREATED;VALUE=DATE-TIME:20150326T154353Z
DESCRIPTION:Mai troppo piccoli per la lettura - I° modulo 
LAST-MODIFIED;VALUE=DATE-TIME:20160222T101523Z
LOCATION:Bologna - Piazza Nettuno\, 3 - Sala Borsa
URL:https://www.ausl.bologna.it/eventi/archivio/auslevent.2015-03-26.43420
 26780
END:VEVENT
END:VCALENDAR
