BEGIN:VCALENDAR
VERSION:2.0
PRODID:-//Plone.org//NONSGML plone.app.event//EN
X-WR-TIMEZONE:Europe/Rome
BEGIN:VEVENT
SUMMARY:Dal neonato a rischio al bambino con disabilità: i percorsi di cu
 ra 
DTSTART;VALUE=DATE-TIME:20150410T060000Z
DTEND;VALUE=DATE-TIME:20150411T110000Z
DTSTAMP;VALUE=DATE-TIME:20260421T170125Z
UID:0535aa7f84a4f972f4d245dae0feb679@127.0.0.1:8095
ATTENDEE;CN="Il convegno è rivolo a medici chirurghi (specializzati in me
 dicina fisica e riabilitazione, neuropsichiatria infantile, anestesia e ri
 animazione, medicina generale, continuità assistenziale, direzione medica
  di presidio ospedaliero), infermieri, terapista della neuro e psicomotric
 ità dell'età evolutiva, educatore professionale, logopedisti, fisioterap
 isti, assistenti sanitari";ROLE=REQ-PARTICIPANT:Il convegno è rivolo a me
 dici chirurghi (specializzati in medicina fisica e riabilitazione, neurops
 ichiatria infantile, anestesia e rianimazione, medicina generale, continui
 tà assistenziale, direzione medica di presidio ospedaliero), infermieri, 
 terapista della neuro e psicomotricità dell'età evolutiva, educatore pro
 fessionale, logopedisti, fisioterapisti, assistenti sanitari
CATEGORIES:Convegno
CONTACT:Momeda Eventi S.r.l.\, 051/5876729\, info@momedaeventi.com
CREATED;VALUE=DATE-TIME:20150326T133208Z
DESCRIPTION:Convegno 
LAST-MODIFIED;VALUE=DATE-TIME:20160222T101521Z
LOCATION:Bologna - Relais Bellaria\, Via Altura\, 11/bis 
URL:https://www.ausl.bologna.it/eventi/archivio/auslevent.2015-03-26.28280
 63186
END:VEVENT
END:VCALENDAR
