BEGIN:VCALENDAR
VERSION:2.0
PRODID:-//Plone.org//NONSGML plone.app.event//EN
X-WR-TIMEZONE:Europe/Rome
BEGIN:VEVENT
SUMMARY:Diventare genitori - L'arrivo di un figlio
DTSTART;VALUE=DATE-TIME:20150422T150000Z
DTEND;VALUE=DATE-TIME:20150422T170000Z
DTSTAMP;VALUE=DATE-TIME:20260421T165945Z
UID:760441f52f82cee45c5cd11b94badaf3@127.0.0.1:8095
ATTENDEE;CN="Incontri aperti e gratuiti";ROLE=REQ-PARTICIPANT:Incontri ape
 rti e gratuiti
CATEGORIES:Incontro
CREATED;VALUE=DATE-TIME:20150325T164428Z
DESCRIPTION:Allattare? Si ma come? Suggerimenti\, tecniche ed ausilii per 
 allattare con successo - I° modulo 
LAST-MODIFIED;VALUE=DATE-TIME:20160222T101518Z
LOCATION:Bologna - Piazza Nettuno\, 3 Sala Borsa
URL:https://www.ausl.bologna.it/eventi/archivio/auslevent.2015-03-25.72804
 02428
END:VEVENT
END:VCALENDAR
