BEGIN:VCALENDAR
VERSION:2.0
PRODID:-//Plone.org//NONSGML plone.app.event//EN
X-WR-TIMEZONE:Europe/Rome
BEGIN:VEVENT
SUMMARY:Diventare genitori - L'arrivo di un figlio
DTSTART;VALUE=DATE-TIME:20150408T150000Z
DTEND;VALUE=DATE-TIME:20150408T170000Z
DTSTAMP;VALUE=DATE-TIME:20260421T170054Z
UID:adb15937e70feb5e4c4e4372552c3d1b@127.0.0.1:8095
ATTENDEE;CN="Incontri aperti e gratuiti";ROLE=REQ-PARTICIPANT:Incontri ape
 rti e gratuiti
CATEGORIES:Incontro
CREATED;VALUE=DATE-TIME:20150325T163903Z
DESCRIPTION:Allattamento - Attaccamento - Prima relazione - I° modulo 
LAST-MODIFIED;VALUE=DATE-TIME:20160222T101518Z
LOCATION:Bologna - Piazza Nettuno\, 3 Sala Borsa
URL:https://www.ausl.bologna.it/eventi/archivio/auslevent.2015-03-25.36860
 92695
END:VEVENT
END:VCALENDAR
