BEGIN:VCALENDAR
VERSION:2.0
PRODID:-//Plone.org//NONSGML plone.app.event//EN
X-WR-TIMEZONE:Europe/Rome
BEGIN:VEVENT
SUMMARY:Diventare genitori - L'arrivo di un figlio
DTSTART;VALUE=DATE-TIME:20150506T150000Z
DTEND;VALUE=DATE-TIME:20150506T170000Z
DTSTAMP;VALUE=DATE-TIME:20260421T170207Z
UID:049f3306b24605458a8f6eb3f380788c@127.0.0.1:8095
ATTENDEE;CN="Incontri aperti e gratuiti";ROLE=REQ-PARTICIPANT:Incontri ape
 rti e gratuiti
CATEGORIES:Incontro
CREATED;VALUE=DATE-TIME:20150325T165322Z
DESCRIPTION:I ritmi e l'adattamento - I° modulo 
LAST-MODIFIED;VALUE=DATE-TIME:20160222T101519Z
LOCATION:Bologna - Piazza Nettuno\, 3 Sala Borsa
URL:https://www.ausl.bologna.it/eventi/archivio/auslevent.2015-03-25.25410
 11595
END:VEVENT
END:VCALENDAR
