BEGIN:VCALENDAR
VERSION:2.0
PRODID:-//Plone.org//NONSGML plone.app.event//EN
X-WR-TIMEZONE:Europe/Rome
BEGIN:VEVENT
SUMMARY:Promuoviamo la salute esplorando Il Corpo Umano 
DTSTART;VALUE=DATE-TIME:20150402T070000Z
DTEND;VALUE=DATE-TIME:20150402T163000Z
DTSTAMP;VALUE=DATE-TIME:20260421T164918Z
UID:f3476bc514fe9562a40073c22b37e012@127.0.0.1:8095
CATEGORIES:Convegno
CREATED;VALUE=DATE-TIME:20150324T124048Z
DESCRIPTION:IV Convegno nazionale di promozione della salute per l'infanzi
 a 
LAST-MODIFIED;VALUE=DATE-TIME:20160222T101516Z
LOCATION:Milano\, P.zza Ospedale Maggiore\, 3 - AO Ospedale Niguarda di Mi
 lano\, Aula Magna 
URL:https://www.ausl.bologna.it/eventi/archivio/auslevent.2015-03-24.43674
 43503
END:VEVENT
END:VCALENDAR
