BEGIN:VCALENDAR
VERSION:2.0
PRODID:-//Plone.org//NONSGML plone.app.event//EN
X-WR-TIMEZONE:Europe/Rome
BEGIN:VEVENT
SUMMARY:Cinno Days - #BornToBeCinno
DTSTART;VALUE=DATE-TIME:20150418T070000Z
DTEND;VALUE=DATE-TIME:20150419T170000Z
DTSTAMP;VALUE=DATE-TIME:20260421T170137Z
UID:dea89e3cabcec61745f587caf53cc1b5@127.0.0.1:8095
CATEGORIES:Festa
CREATED;VALUE=DATE-TIME:20150324T122223Z
DESCRIPTION:Due giorni di eventi\, musica\, degustazioni e divertimento ai
  Giardini Margherita\, a favore di sei associazioni del terriotorio che si
  occupano ogni giorno della salute dei bambini
LAST-MODIFIED;VALUE=DATE-TIME:20160222T101513Z
LOCATION:Bologna - Giardini Margherita 
URL:https://www.ausl.bologna.it/eventi/archivio/auslevent.2015-03-24.15702
 59736
END:VEVENT
END:VCALENDAR
