BEGIN:VCALENDAR
VERSION:2.0
PRODID:-//Plone.org//NONSGML plone.app.event//EN
X-WR-TIMEZONE:Europe/Rome
BEGIN:VEVENT
SUMMARY:L'evoluzione della rete delle cure palliative - The early palliati
 ve care 
DTSTART;VALUE=DATE-TIME:20150327T073000Z
DTEND;VALUE=DATE-TIME:20150327T173000Z
DTSTAMP;VALUE=DATE-TIME:20260421T170055Z
UID:91cf7d13f61c1c81794530376d01ed06@127.0.0.1:8095
ATTENDEE;CN="Iscrizione online entro il 25 marzo 2015";ROLE=REQ-PARTICIPAN
 T:Iscrizione online entro il 25 marzo 2015
CATEGORIES:Convegno
CONTACT:Noema\, 051 230385\, info@noemacongressi.it
CREATED;VALUE=DATE-TIME:20150317T123909Z
DESCRIPTION:Sempre prima\, anche in ospedale
LAST-MODIFIED;VALUE=DATE-TIME:20160222T101512Z
LOCATION:Auditorium Fondazione MAST - Via Speranza\, 42 - Bologna 
URL:https://www.ausl.bologna.it/eventi/archivio/auslevent.2015-03-17.45375
 28039
END:VEVENT
END:VCALENDAR
