BEGIN:VCALENDAR
VERSION:2.0
PRODID:-//Plone.org//NONSGML plone.app.event//EN
X-WR-TIMEZONE:Europe/Rome
BEGIN:VEVENT
SUMMARY:Novità sulla trombosi e sui farmaci antitrombotici
DTSTART;VALUE=DATE-TIME:20150321T090000Z
DTEND;VALUE=DATE-TIME:20150321T150000Z
DTSTAMP;VALUE=DATE-TIME:20260421T170136Z
UID:724b18c7cc6223d6680792951a48912e@127.0.0.1:8095
CATEGORIES:Convegno
CREATED;VALUE=DATE-TIME:20150312T152719Z
LAST-MODIFIED;VALUE=DATE-TIME:20160222T101510Z
LOCATION:Bologna - Archiginnasio\, Sala delle Adunanze\, Piazza Galvani 1
URL:https://www.ausl.bologna.it/eventi/archivio/auslevent.2015-03-12.82946
 39453
END:VEVENT
END:VCALENDAR
