BEGIN:VCALENDAR
VERSION:2.0
PRODID:-//Plone.org//NONSGML plone.app.event//EN
X-WR-TIMEZONE:Europe/Rome
BEGIN:VEVENT
SUMMARY:Vediamoci a Bologna
DTSTART;VALUE=DATE-TIME:20150314T083000Z
DTEND;VALUE=DATE-TIME:20150314T163000Z
DTSTAMP;VALUE=DATE-TIME:20260421T170307Z
UID:892b17c65f1ff3cc00b5523f3d3d4def@127.0.0.1:8095
CATEGORIES:Screening
CREATED;VALUE=DATE-TIME:20150312T110925Z
DESCRIPTION:Fai il test per prevenire il glaucoma
LAST-MODIFIED;VALUE=DATE-TIME:20160222T101509Z
LOCATION:Bologna\, Piazza Minghetti
URL:https://www.ausl.bologna.it/eventi/archivio/auslevent.2015-03-12.22851
 83460
END:VEVENT
END:VCALENDAR
