BEGIN:VCALENDAR
VERSION:2.0
PRODID:-//Plone.org//NONSGML plone.app.event//EN
X-WR-TIMEZONE:Europe/Rome
BEGIN:VEVENT
SUMMARY:Medicina di genere: non una moda\, ma un nuovo approccio alla salu
 te
DTSTART;VALUE=DATE-TIME:20150313T073000Z
DTEND;VALUE=DATE-TIME:20150313T160000Z
DTSTAMP;VALUE=DATE-TIME:20260421T165055Z
UID:02c4dd054bf7ce23a008eebbf31801cc@127.0.0.1:8095
CATEGORIES:Convegno
CONTACT:348 8282044\, megassociazione@gmail.com
CREATED;VALUE=DATE-TIME:20150305T141742Z
DESCRIPTION:Convegno 
LAST-MODIFIED;VALUE=DATE-TIME:20160222T101507Z
URL:https://www.ausl.bologna.it/eventi/archivio/auslevent.2015-03-05.16863
 61637
END:VEVENT
END:VCALENDAR
