BEGIN:VCALENDAR
VERSION:2.0
PRODID:-//Plone.org//NONSGML plone.app.event//EN
X-WR-TIMEZONE:Europe/Rome
BEGIN:VEVENT
SUMMARY:Bologna Parkinson\, 8^ edizione
DTSTART;VALUE=DATE-TIME:20150305T130000Z
DTEND;VALUE=DATE-TIME:20150306T163000Z
DTSTAMP;VALUE=DATE-TIME:20260421T165103Z
UID:2d50761e955bf95cbb7ef2d3f897ebde@127.0.0.1:8095
CREATED;VALUE=DATE-TIME:20150304T153703Z
DESCRIPTION:Neurologi provenienti da tutta Italia si confronteranno sulle 
 novità in tema di terapie e ricerca. \n
LAST-MODIFIED;VALUE=DATE-TIME:20160222T101505Z
URL:https://www.ausl.bologna.it/eventi/archivio/auslevent.2015-03-04.19806
 16183
END:VEVENT
END:VCALENDAR
