BEGIN:VCALENDAR
VERSION:2.0
PRODID:-//Plone.org//NONSGML plone.app.event//EN
X-WR-TIMEZONE:Europe/Rome
BEGIN:VEVENT
SUMMARY:Tutti gli adolescenti vanno a scuola 
DTSTART;VALUE=DATE-TIME:20150318T074500Z
DTEND;VALUE=DATE-TIME:20150318T160000Z
DTSTAMP;VALUE=DATE-TIME:20260421T151530Z
UID:f2ac3cbd7e1a229adafb035f251bb25e@127.0.0.1:8095
CATEGORIES:Convegno
CONTACT:0532 212169\, promecoconvegni@comune.fe.it
CREATED;VALUE=DATE-TIME:20150213T141819Z
DESCRIPTION:La prevenzione nei processi formativi: un progetto possibile 
LAST-MODIFIED;VALUE=DATE-TIME:20160222T101401Z
LOCATION:Ferrara - Facoltà di Giurisprudenza - Corso Ercole I d'Este\, 37
URL:https://www.ausl.bologna.it/eventi/archivio/auslevent.2015-02-13.61001
 58928
END:VEVENT
END:VCALENDAR
