BEGIN:VCALENDAR
VERSION:2.0
PRODID:-//Plone.org//NONSGML plone.app.event//EN
X-WR-TIMEZONE:Europe/Rome
BEGIN:VEVENT
SUMMARY:Trauma:update and organization - 10^ Edizione 
DTSTART;VALUE=DATE-TIME:20150220T090000Z
DTEND;VALUE=DATE-TIME:20150221T153000Z
DTSTAMP;VALUE=DATE-TIME:20260421T151430Z
UID:e5316b4a7742dd6bd367ec4aff1e68be@127.0.0.1:8095
ATTENDEE;CN="Iscrizioni e modalità di pagamento dell’iscrizione sono in
 dicate in dettaglio sul sito internet www.noemacongressi.it";ROLE=REQ-PART
 ICIPANT:Iscrizioni e modalità di pagamento dell’iscrizione sono indicat
 e in dettaglio sul sito internet www.noemacongressi.it
CATEGORIES:Convegno
CREATED;VALUE=DATE-TIME:20150213T121708Z
DESCRIPTION:Convegno 
LAST-MODIFIED;VALUE=DATE-TIME:20160222T101359Z
LOCATION:Bologna - B4 Bologna Tower Hotel - Viale Lenin\, 43
URL:https://www.ausl.bologna.it/eventi/archivio/auslevent.2015-02-13.04340
 32818
END:VEVENT
END:VCALENDAR
