BEGIN:VCALENDAR
VERSION:2.0
PRODID:-//Plone.org//NONSGML plone.app.event//EN
X-WR-TIMEZONE:Europe/Rome
BEGIN:VEVENT
SUMMARY:Le Cardiologie dell'AUSL di Bologna insieme per i Cittadini 
DTSTART;VALUE=DATE-TIME:20150214T133000Z
DTEND;VALUE=DATE-TIME:20150214T173000Z
DTSTAMP;VALUE=DATE-TIME:20260421T151527Z
UID:0b1032dc18b74b8704343240dfbec945@127.0.0.1:8095
CATEGORIES:Giornata nazionale
CONTACT:051 6478704\, g.montefrancesco@ausl.bologna.it
CREATED;VALUE=DATE-TIME:20150211T145419Z
LAST-MODIFIED;VALUE=DATE-TIME:20160222T101356Z
LOCATION:Museo - Oratorio del Complesso Monumentale di S. Maria della Vita
  - Via Clavature\, 8 - Bologna 
URL:https://www.ausl.bologna.it/eventi/archivio/auslevent.2015-02-11.01386
 14615
END:VEVENT
END:VCALENDAR
