BEGIN:VCALENDAR
VERSION:2.0
PRODID:-//Plone.org//NONSGML plone.app.event//EN
X-WR-TIMEZONE:Europe/Rome
BEGIN:VEVENT
SUMMARY:Diventare genitori - L'arrivo di un figlio
DTSTART;VALUE=DATE-TIME:20150311T160000Z
DTEND;VALUE=DATE-TIME:20150311T180000Z
DTSTAMP;VALUE=DATE-TIME:20260423T115908Z
UID:ae3b4c55bf94fc0129a515c7cb25af43@127.0.0.1:8095
ATTENDEE;CN="Incontri aperti e gratuiti";ROLE=REQ-PARTICIPANT:Incontri ape
 rti e gratuiti
CATEGORIES:Incontro
CREATED;VALUE=DATE-TIME:20150209T144339Z
DESCRIPTION:Travaglio-Parto e contenimento del dolore farmacologico - I° 
 Modulo 
LAST-MODIFIED;VALUE=DATE-TIME:20160222T101355Z
LOCATION:Sala Borsa - Piazza Nettuno\, 3 - Bologna
URL:https://www.ausl.bologna.it/eventi/archivio/auslevent.2015-02-09.79525
 59999
END:VEVENT
END:VCALENDAR
