BEGIN:VCALENDAR
VERSION:2.0
PRODID:-//Plone.org//NONSGML plone.app.event//EN
X-WR-TIMEZONE:Europe/Rome
BEGIN:VEVENT
SUMMARY:Diventare genitori - L'arrivo di un figlio
DTSTART;VALUE=DATE-TIME:20150225T160000Z
DTEND;VALUE=DATE-TIME:20150225T180000Z
DTSTAMP;VALUE=DATE-TIME:20260421T151430Z
UID:cde036c1ad81cdaba4390ee47eab6fa2@127.0.0.1:8095
ATTENDEE;CN="Incontri aperti e gratuiti";ROLE=REQ-PARTICIPANT:Incontri ape
 rti e gratuiti
CATEGORIES:Incontro
CREATED;VALUE=DATE-TIME:20150209T140235Z
DESCRIPTION:Travaglio-Parto e contenimento non farmacologico del dolore - 
 I° modulo 
LAST-MODIFIED;VALUE=DATE-TIME:20160222T101353Z
LOCATION:Sala Borsa - Piazza Nettuno\, 3 - Bologna
URL:https://www.ausl.bologna.it/eventi/archivio/auslevent.2015-02-09.41453
 67988
END:VEVENT
END:VCALENDAR
