BEGIN:VCALENDAR
VERSION:2.0
PRODID:-//Plone.org//NONSGML plone.app.event//EN
X-WR-TIMEZONE:Europe/Rome
BEGIN:VEVENT
SUMMARY:Diventare genitori - L'arrivo di un figlio
DTSTART;VALUE=DATE-TIME:20150930T150000Z
DTEND;VALUE=DATE-TIME:20150930T170000Z
DTSTAMP;VALUE=DATE-TIME:20260421T151620Z
UID:eb176944acbca020ec3f7238dd59a7db@127.0.0.1:8095
ATTENDEE;CN="Incontri aperti e gratuiti";ROLE=REQ-PARTICIPANT:Incontri ape
 rti e gratuiti
CATEGORIES:Incontro
CREATED;VALUE=DATE-TIME:20150209T141909Z
DESCRIPTION:Travaglio-Parto e contenimento non farmacologico del dolore - 
 II° modulo 
LAST-MODIFIED;VALUE=DATE-TIME:20160222T101354Z
LOCATION:Sala Borsa - Piazza Nettuno\, 3 - Bologna
URL:https://www.ausl.bologna.it/eventi/archivio/auslevent.2015-02-09.36499
 90815
END:VEVENT
END:VCALENDAR
