BEGIN:VCALENDAR
VERSION:2.0
PRODID:-//Plone.org//NONSGML plone.app.event//EN
X-WR-TIMEZONE:Europe/Rome
BEGIN:VEVENT
SUMMARY:Diventare genitori - L'arrivo di un figlio
DTSTART;VALUE=DATE-TIME:20151007T150000Z
DTEND;VALUE=DATE-TIME:20151007T170000Z
DTSTAMP;VALUE=DATE-TIME:20260421T151555Z
UID:9d8ff6f07aefd2433472dc0fb3a146f4@127.0.0.1:8095
CATEGORIES:Incontro
CREATED;VALUE=DATE-TIME:20150209T144918Z
DESCRIPTION:Travaglio-Parto e contenimento del dolore farmacologico - II°
  Modulo
LAST-MODIFIED;VALUE=DATE-TIME:20160222T101355Z
LOCATION:Sala Borsa - Piazza Nettuno\, 3 - Bologna
URL:https://www.ausl.bologna.it/eventi/archivio/auslevent.2015-02-09.21370
 87381
END:VEVENT
END:VCALENDAR
