BEGIN:VCALENDAR
VERSION:2.0
PRODID:-//Plone.org//NONSGML plone.app.event//EN
X-WR-TIMEZONE:Europe/Rome
BEGIN:VEVENT
SUMMARY:Diventare genitori - L'arrivo di un figlio
DTSTART;VALUE=DATE-TIME:20150916T150000Z
DTEND;VALUE=DATE-TIME:20150916T170000Z
DTSTAMP;VALUE=DATE-TIME:20260421T151442Z
UID:9412b3cc33ad7c4abcf376586b8e6a93@127.0.0.1:8095
ATTENDEE;CN="Incontri aperti e gratuiti";ROLE=REQ-PARTICIPANT:Incontri ape
 rti e gratuiti
CATEGORIES:Incontro
CREATED;VALUE=DATE-TIME:20150209T134841Z
DESCRIPTION:L'assistenza alla gravidanza - II° modulo 
LAST-MODIFIED;VALUE=DATE-TIME:20160222T101352Z
LOCATION:Sala Borsa - Piazza Nettuno\, 3 - Bologna
URL:https://www.ausl.bologna.it/eventi/archivio/auslevent.2015-02-09.18200
 85740
END:VEVENT
END:VCALENDAR
