BEGIN:VCALENDAR
VERSION:2.0
PRODID:-//Plone.org//NONSGML plone.app.event//EN
X-WR-TIMEZONE:Europe/Rome
BEGIN:VEVENT
SUMMARY:Diventare genitori - L'arrivo di un figlio 
DTSTART;VALUE=DATE-TIME:20150211T160000Z
DTEND;VALUE=DATE-TIME:20150211T180000Z
DTSTAMP;VALUE=DATE-TIME:20260421T151620Z
UID:ecd926e64829cbf14db4633fb5f5d87c@127.0.0.1:8095
ATTENDEE;CN="Incontri aperti e gratuiti";ROLE=REQ-PARTICIPANT:Incontri ape
 rti e gratuiti
CATEGORIES:Incontro
CREATED;VALUE=DATE-TIME:20150209T132741Z
DESCRIPTION:L'assistenza alla gravidanza - I° modulo 
LAST-MODIFIED;VALUE=DATE-TIME:20160222T101351Z
LOCATION:Sala Borsa - Piazza Nettuno\, 3 - Bologna 
URL:https://www.ausl.bologna.it/eventi/archivio/auslevent.2015-02-09.17159
 56646
END:VEVENT
END:VCALENDAR
