BEGIN:VCALENDAR
VERSION:2.0
PRODID:-//Plone.org//NONSGML plone.app.event//EN
X-WR-TIMEZONE:Europe/Rome
BEGIN:VEVENT
SUMMARY:Gestione ospedaliera e continuità assistenziale per il paziente a
 ffetto da diabete mellito 
DTSTART;VALUE=DATE-TIME:20150325T070000Z
DTEND;VALUE=DATE-TIME:20150325T163000Z
DTSTAMP;VALUE=DATE-TIME:20260421T151337Z
UID:b2e6ff0262a83c42a821786bd8e0d260@127.0.0.1:8095
CATEGORIES:corso
CONTACT:051/809194\, monica.spisni@ausl.bo.it
CREATED;VALUE=DATE-TIME:20150204T135735Z
DESCRIPTION:Corso - Dipartimento Medico - II^ edizione 
LAST-MODIFIED;VALUE=DATE-TIME:20160222T101350Z
LOCATION:Budrio (BO) - Ospedale di Budrio 
URL:https://www.ausl.bologna.it/eventi/archivio/auslevent.2015-02-04.99015
 60986
END:VEVENT
END:VCALENDAR
