BEGIN:VCALENDAR
VERSION:2.0
PRODID:-//Plone.org//NONSGML plone.app.event//EN
X-WR-TIMEZONE:Europe/Rome
BEGIN:VEVENT
SUMMARY:Gestione ospedaliera e continuità assistenziale per il paziente a
 ffetto da diabete mellito 
DTSTART;VALUE=DATE-TIME:20150317T070000Z
DTEND;VALUE=DATE-TIME:20150317T163000Z
DTSTAMP;VALUE=DATE-TIME:20260421T151312Z
UID:3d37fe3e4747d9d49bfe8a799b60918e@127.0.0.1:8095
CATEGORIES:corso
CONTACT:051/809194\, monica.spisni@ausl.bo.it
CREATED;VALUE=DATE-TIME:20150204T134359Z
DESCRIPTION:Corso - Dipartimento Medico - I^ edizione 
LAST-MODIFIED;VALUE=DATE-TIME:20160222T101349Z
LOCATION:Ospedale San Giovanni in Persiceto (BO)
URL:https://www.ausl.bologna.it/eventi/archivio/auslevent.2015-02-04.22780
 22301
END:VEVENT
END:VCALENDAR
