BEGIN:VCALENDAR
VERSION:2.0
PRODID:-//Plone.org//NONSGML plone.app.event//EN
X-WR-TIMEZONE:Europe/Rome
BEGIN:VEVENT
SUMMARY:“OKkio alla ristorazione” per Guadagnare Salute
DTSTART;VALUE=DATE-TIME:20150223T073000Z
DTEND;VALUE=DATE-TIME:20150223T160000Z
DTSTAMP;VALUE=DATE-TIME:20260421T151558Z
UID:84b5160ae504a483eff7c0647a20a516@127.0.0.1:8095
ATTENDEE;CN="Sono stati richiesti i Crediti ECM per le seguenti categorie:
  assistente sanitario, biologo, chimico, dietista, infermiere, medico chir
 urgo, tecnico della prevenzione,  psicologo, veterinario.";ROLE=REQ-PARTIC
 IPANT:Sono stati richiesti i Crediti ECM per le seguenti categorie: assist
 ente sanitario, biologo, chimico, dietista, infermiere, medico chirurgo, t
 ecnico della prevenzione,  psicologo, veterinario.
CONTACT:Cristina Coppini  - Rosa Domina\, cristina.coppini@ausl.bologna.it
CREATED;VALUE=DATE-TIME:20150203T073248Z
LAST-MODIFIED;VALUE=DATE-TIME:20160222T101347Z
URL:https://www.ausl.bologna.it/eventi/archivio/auslevent.2015-02-03.14412
 00279
END:VEVENT
END:VCALENDAR
