BEGIN:VCALENDAR
VERSION:2.0
PRODID:-//Plone.org//NONSGML plone.app.event//EN
X-WR-TIMEZONE:Europe/Rome
BEGIN:VEVENT
SUMMARY:#5buoneragioni per accogliere i bambini che vanno protetti 
DTSTART;VALUE=DATE-TIME:20150129T093000Z
DTEND;VALUE=DATE-TIME:20150129T120000Z
DTSTAMP;VALUE=DATE-TIME:20260421T151621Z
UID:2e1cbad7ea59049163472362c69580f5@127.0.0.1:8095
CATEGORIES:Incontro
CONTACT:5buoneragionibo@gmail.com
CREATED;VALUE=DATE-TIME:20150127T113643Z
DESCRIPTION:Le storie e i dati dei minorenni allontanti dalla propria fami
 glia\, dei loro genitori e degli operatori che se ne prendono cura 
LAST-MODIFIED;VALUE=DATE-TIME:20160215T083556Z
LOCATION:Sala prof. Marco Biagi - Quartiere Santo Stefano\, Via Santo Stef
 ano\, 119 - Bologna 
URL:https://www.ausl.bologna.it/eventi/archivio/auslevent.2015-01-27.31664
 69047
END:VEVENT
END:VCALENDAR
